Workbook

Sheet Звездочки
C2: Итоговый протокол смотра -конкурса "Лучший центр конструктивно-модельной деятельности в ДОУ"
D3: Дата: 01.12.2020
D4: Группа : | F4: Звездочки
B6: № п/п | C6: показетель | D6: Соколова О.В. | E6: Юркина Е.Ю. | F6: Завражных О.Е. | G6: Выбина Е.Ю. | H6: Кириленко Е.В. | I6: Новичкова И.В. | J6: всего
B7: 1 | C7: Оригинальность и эстетичность оформления уголка | D7: 2 | E7: 2 | F7: 2 | G7: 3 | H7: 3 | I7: 2 | J7: =AVERAGE(D7:I7) -> 2.3333333
B8: 2 | C8: Рациональность размещения (открытость и доступность для игры детям, удобство использования материала, создания построек, поделок и т.д.) | D8: 3 | E8: 3 | F8: 3 | G8: 3 | H8: 3 | I8: 3 | J8: =AVERAGE(D8:I8) -> 3
B9: 3 | C9: Соответствие оборудования уголка программным и возрастным требованиям, требованиям безопасности и СаНПиН | D9: 3 | E9: 3 | F9: 3 | G9: 3 | H9: 3 | I9: 3 | J9: =AVERAGE(D9:I9) -> 3
B10: 4 | C10: Разнообразие материалов для организации технического конструирования | D10: 5 | E10: 5 | F10: 4 | G10: 4 | H10: 6 | I10: 6 | J10: =AVERAGE(D10:I10) -> 5
B11: 5 | C11: Разнообразие материала для художественного конструирования | D11: 9 | E11: 8 | F11: 7 | G11: 9 | H11: 9 | I11: 9 | J11: =AVERAGE(D11:I11) -> 8.5
B12: 5 | C12: Наличие дополнительного материала, необходимого для игр с конструктором | D12: 7 | E12: 8 | F12: 5 | G12: 11 | H12: 10 | I12: 10 | J12: =AVERAGE(D12:I12) -> 8.5
B13: 6 | C13: Наличие дидактических игр | D13: 3 | E13: 3 | F13: 1 | G13: 3 | H13: 2 | I13: 3 | J13: =AVERAGE(D13:I13) -> 2.5
B14: 7 | C14: Наличие оборудования для обыгрывания построек и поделок детей (фигурки людей, диких и домашних животных, птиц, рыб, насекомых, машинки, светофор и т.д.) | D14: 3 | E14: 3 | F14: 3 | G14: 3 | H14: 3 | I14: 3 | J14: =AVERAGE(D14:I14) -> 3
B15: 8 | C15: Наличие выставки детских работ (сюжетное оформление построек, поделок) | D15: 3 | E15: 3 | F15: 2 | G15: 3 | H15: 2 | I15: 3 | J15: =AVERAGE(D15:I15) -> 2.6666667
B16: 9 | C16: Дополнительные баллы за творчество и оригинальность оформления | D16: 0 | E16: 0 | F16: 0 | G16: 0 | H16: 0 | I16: 0 | J16: =AVERAGE(D16:I16) -> 0
B17: 10 | C17: ИТОГО | J17: =SUM(J7:J16) -> 38.5

Sheet Смышленыши
C2: Итоговый протокол смотра -конкурса "Лучший центр конструктивно-модельной деятельности в ДОУ"
D3: Дата: 01.12.2020
D4: Группа : | F4: Смышленыши
B6: № п/п | C6: показетель | D6: Соколова О.В. | E6: Юркина Е.Ю. | F6: Завражных О.Е. | G6: Выбина Е.Ю. | H6: Кириленко Е.В. | I6: Новичкова И.В. | J6: Всего
B7: 1 | C7: Оригинальность и эстетичность оформления уголка | D7: 3 | E7: 3 | F7: 2 | G7: 3 | H7: 3 | I7: 2 | J7: =AVERAGE(D7:I7) -> 2.6666667
B8: 2 | C8: Рациональность размещения (открытость и доступность для игры детям, удобство использования материала, создания построек, поделок и т.д.) | D8: 3 | E8: 3 | F8: 3 | G8: 3 | H8: 3 | I8: 3 | J8: =AVERAGE(D8:I8) -> 3
B9: 3 | C9: Соответствие оборудования уголка программным и возрастным требованиям, требованиям безопасности и СаНПиН | D9: 3 | E9: 3 | F9: 3 | G9: 3 | H9: 3 | I9: 3 | J9: =AVERAGE(D9:I9) -> 3
B10: 4 | C10: Разнообразие материалов для организации технического конструирования | D10: 5 | E10: 4 | F10: 4 | G10: 4 | H10: 6 | I10: 6 | J10: =AVERAGE(D10:I10) -> 4.8333333
B11: 5 | C11: Разнообразие материала для художественного конструирования | D11: 7 | E11: 7 | F11: 7 | G11: 9 | H11: 9 | I11: 8 | J11: =AVERAGE(D11:I11) -> 7.8333333
B12: 5 | C12: Наличие дополнительного материала, необходимого для игр с конструктором | D12: 9 | E12: 8 | F12: 7 | G12: 10 | H12: 10 | I12: 11 | J12: =AVERAGE(D12:I12) -> 9.1666667
B13: 6 | C13: Наличие дидактических игр | D13: 1 | E13: 3 | F13: 2 | G13: 3 | H13: 2 | I13: 2 | J13: =AVERAGE(D13:I13) -> 2.1666667
B14: 7 | C14: Наличие оборудования для обыгрывания построек и поделок детей (фигурки людей, диких и домашних животных, птиц, рыб, насекомых, машинки, светофор и т.д.) | D14: 3 | E14: 3 | F14: 3 | G14: 3 | H14: 3 | I14: 3 | J14: =AVERAGE(D14:I14) -> 3
B15: 8 | C15: Наличие выставки детских работ (сюжетное оформление построек, поделок) | D15: 2 | E15: 2 | F15: 1 | G15: 3 | H15: 2 | I15: 3 | J15: =AVERAGE(D15:I15) -> 2.1666667
B16: 9 | C16: Дополнительные баллы за творчество и оригинальность оформления | D16: 3 | E16: 0 | F16: 0 | G16: 0 | H16: 0 | I16: 0 | J16: =AVERAGE(D16:I16) -> 0.5
B17: 10 | C17: ИТОГО | J17: =SUM(J7:J16) -> 38.333333

Sheet Ромашки
C2: Итоговый протокол смотра -конкурса "Лучший центр конструктивно-модельной деятельности в ДОУ"
D3: Дата: 01.12.2020
D4: Группа : | F4: Ромашки
B6: № п/п | C6: показетель | D6: Соколова О.В. | E6: Юркина Е.Ю. | F6: Завражных О.Е. | G6: Выбина Е.Ю. | H6: Кириленко Е.В. | I6: Новичкова И.В. | J6: всего
B7: 1 | C7: Оригинальность и эстетичность оформления уголка | D7: 3 | E7: 3 | F7: 2 | G7: 3 | H7: 3 | I7: 3 | J7: =AVERAGE(D7:I7) -> 2.8333333
B8: 2 | C8: Рациональность размещения (открытость и доступность для игры детям, удобство использования материала, создания построек, поделок и т.д.) | D8: 3 | E8: 3 | F8: 2 | G8: 3 | H8: 3 | I8: 3 | J8: =AVERAGE(D8:I8) -> 2.8333333
B9: 3 | C9: Соответствие оборудования уголка программным и возрастным требованиям, требованиям безопасности и СаНПиН | D9: 3 | E9: 3 | F9: 3 | G9: 3 | H9: 3 | I9: 3 | J9: =AVERAGE(D9:I9) -> 3
B10: 4 | C10: Разнообразие материалов для организации технического конструирования | D10: 6 | E10: 3 | F10: 6 | G10: 6 | H10: 6 | I10: 6 | J10: =AVERAGE(D10:I10) -> 5.5
B11: 5 | C11: Разнообразие материала для художественного конструирования | D11: 9 | E11: 9 | F11: 8 | G11: 9 | H11: 9 | I11: 9 | J11: =AVERAGE(D11:I11) -> 8.8333333
B12: 5 | C12: Наличие дополнительного материала, необходимого для игр с конструктором | D12: 10 | E12: 9 | F12: 6 | G12: 11 | H12: 11 | I12: 8 | J12: =AVERAGE(D12:I12) -> 9.1666667
B13: 6 | C13: Наличие дидактических игр | D13: 2 | E13: 3 | F13: 1 | G13: 2 | H13: 1 | I13: 2 | J13: =AVERAGE(D13:I13) -> 1.8333333
B14: 7 | C14: Наличие оборудования для обыгрывания построек и поделок детей (фигурки людей, диких и домашних животных, птиц, рыб, насекомых, машинки, светофор и т.д.) | D14: 3 | E14: 3 | F14: 3 | G14: 3 | H14: 3 | I14: 3 | J14: =AVERAGE(D14:I14) -> 3
B15: 8 | C15: Наличие выставки детских работ (сюжетное оформление построек, поделок) | D15: 3 | E15: 3 | F15: 2 | G15: 3 | H15: 2 | I15: 3 | J15: =AVERAGE(D15:I15) -> 2.6666667
B16: 9 | C16: Дополнительные баллы за творчество и оригинальность оформления | D16: 3 | E16: 0 | F16: 0 | G16: 0 | H16: 0 | I16: 3 | J16: =AVERAGE(D16:I16) -> 1
B17: 10 | C17: ИТОГО | J17: =SUM(J7:J16) -> 40.666667

Sheet Фантазеры
C2: Итоговый протокол смотра -конкурса "Лучший центр конструктивно-модельной деятельности в ДОУ"
D3: Дата: 01.12.2020
D4: Группа : | F4: Фантазеры
B6: № п/п | C6: показетель | D6: Соколова О.В. | E6: Юркина Е.Ю. | F6: Завражных О.Е. | G6: Выбина Е.Ю. | H6: Кириленко Е.В. | I6: Новичкова И.В. | J6: всего
B7: 1 | C7: Оригинальность и эстетичность оформления уголка | D7: 3 | E7: 2 | F7: 2 | G7: 3 | H7: 3 | I7: 2 | J7: =AVERAGE(D7:I7) -> 2.5
B8: 2 | C8: Рациональность размещения (открытость и доступность для игры детям, удобство использования материала, создания построек, поделок и т.д.) | D8: 3 | E8: 2 | F8: 3 | G8: 3 | H8: 3 | I8: 3 | J8: =AVERAGE(D8:I8) -> 2.8333333
B9: 3 | C9: Соответствие оборудования уголка программным и возрастным требованиям, требованиям безопасности и СаНПиН | D9: 3 | E9: 3 | F9: 2 | G9: 3 | H9: 3 | I9: 3 | J9: =AVERAGE(D9:I9) -> 2.8333333
B10: 4 | C10: Разнообразие материалов для организации технического конструирования | D10: 6 | E10: 3 | F10: 3 | G10: 3 | H10: 3 | I10: 4 | J10: =AVERAGE(D10:I10) -> 3.6666667
B11: 5 | C11: Разнообразие материала для художественного конструирования | D11: 8 | E11: 8 | F11: 6 | G11: 8 | H11: 8 | I11: 8 | J11: =AVERAGE(D11:I11) -> 7.6666667
B12: 5 | C12: Наличие дополнительного материала, необходимого для игр с конструктором | D12: 7 | E12: 8 | F12: 7 | G12: 11 | H12: 9 | I12: 8 | J12: =AVERAGE(D12:I12) -> 8.3333333
B13: 6 | C13: Наличие дидактических игр | D13: 1 | E13: 2 | F13: 1 | G13: 3 | H13: 1 | I13: 2 | J13: =AVERAGE(D13:I13) -> 1.6666667
B14: 7 | C14: Наличие оборудования для обыгрывания построек и поделок детей (фигурки людей, диких и домашних животных, птиц, рыб, насекомых, машинки, светофор и т.д.) | D14: 3 | E14: 3 | F14: 3 | G14: 3 | H14: 3 | I14: 3 | J14: =AVERAGE(D14:I14) -> 3
B15: 8 | C15: Наличие выставки детских работ (сюжетное оформление построек, поделок) | D15: 2 | E15: 3 | F15: 1 | G15: 3 | H15: 2 | I15: 3 | J15: =AVERAGE(D15:I15) -> 2.3333333
B16: 9 | C16: Дополнительные баллы за творчество и оригинальность оформления | D16: 2 | E16: 0 | F16: 0 | G16: 0 | H16: 0 | I16: 0 | J16: =AVERAGE(D16:I16) -> 0.33333333
B17: 10 | C17: ИТОГО | J17: =SUM(J7:J16) -> 35.166667

Sheet Затейники
C2: Итоговый протокол смотра -конкурса "Лучший центр конструктивно-модельной деятельности в ДОУ"
D3: Дата: 01.12.2020
D4: Группа : | F4: Затейники
B6: № п/п | C6: показетель | D6: Соколова О.В. | E6: Шабанова М.К.. | F6: Ботникова Г.Б. | G6: Выбина Е.Ю. | H6: Кириленко Е.В. | I6: Новичкова И.В. | J6: всего
B7: 1 | C7: Оригинальность и эстетичность оформления уголка | D7: 3 | E7: 3 | F7: 3 | G7: 3 | H7: 3 | I7: 3 | J7: =AVERAGE(D7:I7) -> 3
B8: 2 | C8: Рациональность размещения (открытость и доступность для игры детям, удобство использования материала, создания построек, поделок и т.д.) | D8: 3 | E8: 3 | F8: 3 | G8: 3 | H8: 3 | I8: 3 | J8: =AVERAGE(D8:I8) -> 3
B9: 3 | C9: Соответствие оборудования уголка программным и возрастным требованиям, требованиям безопасности и СаНПиН | D9: 3 | E9: 3 | F9: 3 | G9: 3 | H9: 3 | I9: 3 | J9: =AVERAGE(D9:I9) -> 3
B10: 4 | C10: Разнообразие материалов для организации технического конструирования | D10: 6 | E10: 6 | F10: 6 | G10: 6 | H10: 6 | I10: 6 | J10: =AVERAGE(D10:I10) -> 6
B11: 5 | C11: Разнообразие материала для художественного конструирования | D11: 9 | E11: 9 | F11: 9 | G11: 9 | H11: 9 | I11: 8 | J11: =AVERAGE(D11:I11) -> 8.8333333
B12: 5 | C12: Наличие дополнительного материала, необходимого для игр с конструктором | D12: 8 | E12: 12 | F12: 12 | G12: 9 | H12: 12 | I12: 11 | J12: =AVERAGE(D12:I12) -> 10.666667
B13: 6 | C13: Наличие дидактических игр | D13: 3 | E13: 3 | F13: 3 | G13: 3 | H13: 3 | I13: 2 | J13: =AVERAGE(D13:I13) -> 2.8333333
B14: 7 | C14: Наличие оборудования для обыгрывания построек и поделок детей (фигурки людей, диких и домашних животных, птиц, рыб, насекомых, машинки, светофор и т.д.) | D14: 3 | E14: 3 | F14: 3 | G14: 3 | H14: 3 | I14: 3 | J14: =AVERAGE(D14:I14) -> 3
B15: 8 | C15: Наличие выставки детских работ (сюжетное оформление построек, поделок) | D15: 2 | E15: 3 | F15: 3 | G15: 3 | H15: 3 | I15: 3 | J15: =AVERAGE(D15:I15) -> 2.8333333
B16: 9 | C16: Дополнительные баллы за творчество и оригинальность оформления | D16: 3 | E16: 3 | F16: 3 | G16: 3 | H16: 3 | I16: 3 | J16: =AVERAGE(D16:I16) -> 3
B17: 10 | C17: ИТОГО | J17: =SUM(J7:J16) -> 46.166667

Sheet Ягодка
C2: Итоговый протокол смотра -конкурса "Лучший центр конструктивно-модельной деятельности в ДОУ"
D3: Дата: 01.12.2020
D4: Группа : | F4: Ягодка
B6: № п/п | C6: показетель | D6: Соколова О.В. | E6: Юркина Е.Ю. | F6: Завражных О.Е. | G6: Шабаанова М.К. | H6: Ботникова Г.Б. | I6: Новичкова И.В. | J6: Всего
B7: 1 | C7: Оригинальность и эстетичность оформления уголка | D7: 2 | E7: 3 | F7: 2 | G7: 2 | H7: 2 | I7: 2 | J7: =AVERAGE(D7:I7) -> 2.1666667
B8: 2 | C8: Рациональность размещения (открытость и доступность для игры детям, удобство использования материала, создания построек, поделок и т.д.) | D8: 3 | E8: 3 | F8: 2 | G8: 3 | H8: 3 | I8: 3 | J8: =AVERAGE(D8:I8) -> 2.8333333
B9: 3 | C9: Соответствие оборудования уголка программным и возрастным требованиям, требованиям безопасности и СаНПиН | D9: 3 | E9: 3 | F9: 3 | G9: 3 | H9: 3 | I9: 3 | J9: =AVERAGE(D9:I9) -> 3
B10: 4 | C10: Разнообразие материалов для организации технического конструирования | D10: 6 | E10: 6 | F10: 6 | G10: 6 | H10: 6 | I10: 6 | J10: =AVERAGE(D10:I10) -> 6
B11: 5 | C11: Разнообразие материала для художественного конструирования | D11: 9 | E11: 9 | F11: 8 | G11: 8 | H11: 8 | I11: 9 | J11: =AVERAGE(D11:I11) -> 8.5
B12: 5 | C12: Наличие дополнительного материала, необходимого для игр с конструктором | D12: 5 | E12: 7 | F12: 6 | G12: 9 | H12: 9 | I12: 12 | J12: =AVERAGE(D12:I12) -> 8
B13: 6 | C13: Наличие дидактических игр | D13: 2 | E13: 3 | F13: 1 | G13: 3 | H13: 3 | I13: 3 | J13: =AVERAGE(D13:I13) -> 2.5
B14: 7 | C14: Наличие оборудования для обыгрывания построек и поделок детей (фигурки людей, диких и домашних животных, птиц, рыб, насекомых, машинки, светофор и т.д.) | D14: 3 | E14: 3 | F14: 3 | G14: 3 | H14: 3 | I14: 3 | J14: =AVERAGE(D14:I14) -> 3
B15: 8 | C15: Наличие выставки детских работ (сюжетное оформление построек, поделок) | D15: 2 | E15: 3 | F15: 1 | G15: 3 | H15: 3 | I15: 3 | J15: =AVERAGE(D15:I15) -> 2.5
B16: 9 | C16: Дополнительные баллы за творчество и оригинальность оформления | D16: 2 | E16: 0 | F16: 0 | G16: 0 | H16: 0 | I16: 0 | J16: =AVERAGE(D16:I16) -> 0.33333333
B17: 10 | C17: ИТОГО | J17: =SUM(J7:J16) -> 38.833333

Sheet Радуга
C2: Итоговый протокол смотра -конкурса "Лучший центр конструктивно-модельной деятельности в ДОУ"
D3: Дата: 01.12.2020
D4: Группа : | F4: Радуга
B6: № п/п | C6: показетель | D6: Соколова О.В. | E6: Юркина Е.Ю. | F6: Завражных О.Е. | G6: Выбина Е.Ю. | H6: Кириленко Е.В. | I6: Шабанова М.К. | J6: Всего
B7: 1 | C7: Оригинальность и эстетичность оформления уголка | D7: 3 | E7: 3 | F7: 3 | G7: 3 | H7: 3 | I7: 3 | J7: =AVERAGE(D7:I7) -> 3
B8: 2 | C8: Рациональность размещения (открытость и доступность для игры детям, удобство использования материала, создания построек, поделок и т.д.) | D8: 3 | E8: 3 | F8: 3 | G8: 3 | H8: 3 | I8: 3 | J8: =AVERAGE(D8:I8) -> 3
B9: 3 | C9: Соответствие оборудования уголка программным и возрастным требованиям, требованиям безопасности и СаНПиН | D9: 3 | E9: 3 | F9: 3 | G9: 3 | H9: 3 | I9: 3 | J9: =AVERAGE(D9:I9) -> 3
B10: 4 | C10: Разнообразие материалов для организации технического конструирования | D10: 6 | E10: 5 | F10: 5 | G10: 6 | H10: 6 | I10: 6 | J10: =AVERAGE(D10:I10) -> 5.6666667
B11: 5 | C11: Разнообразие материала для художественного конструирования | D11: 8 | E11: 8 | F11: 6 | G11: 9 | H11: 9 | I11: 9 | J11: =AVERAGE(D11:I11) -> 8.1666667
B12: 5 | C12: Наличие дополнительного материала, необходимого для игр с конструктором | D12: 7 | E12: 9 | F12: 7 | G12: 10 | H12: 11 | I12: 12 | J12: =AVERAGE(D12:I12) -> 9.3333333
B13: 6 | C13: Наличие дидактических игр | D13: 3 | E13: 3 | F13: 1 | G13: 3 | H13: 3 | I13: 3 | J13: =AVERAGE(D13:I13) -> 2.6666667
B14: 7 | C14: Наличие оборудования для обыгрывания построек и поделок детей (фигурки людей, диких и домашних животных, птиц, рыб, насекомых, машинки, светофор и т.д.) | D14: 3 | E14: 3 | F14: 3 | G14: 3 | H14: 3 | I14: 3 | J14: =AVERAGE(D14:I14) -> 3
B15: 8 | C15: Наличие выставки детских работ (сюжетное оформление построек, поделок) | D15: 2 | E15: 3 | F15: 1 | G15: 3 | H15: 3 | I15: 3 | J15: =AVERAGE(D15:I15) -> 2.5
B16: 9 | C16: Дополнительные баллы за творчество и оригинальность оформления | D16: 3 | E16: 0 | F16: 0 | G16: 0 | H16: 0 | I16: 3 | J16: =AVERAGE(D16:I16) -> 1
B17: 10 | C17: ИТОГО | J17: =SUM(J7:J16) -> 41.333333

Sheet Кораблик
C2: Итоговый протокол смотра -конкурса "Лучший центр конструктивно-модельной деятельности в ДОУ"
D3: Дата: 01.12.2020
D4: Группа : | F4: Кораблик
B6: № п/п | C6: показетель | D6: Соколова О.В. | E6: Юркина Е.Ю. | F6: Завражных О.Е. | G6: Выбина Е.Ю. | H6: Кириленко Е.В. | I6: Новичкова И.В. | J6: всего
B7: 1 | C7: Оригинальность и эстетичность оформления уголка | D7: 2 | E7: 3 | F7: 2 | G7: 3 | H7: 2 | I7: 3 | J7: =AVERAGE(D7:I7) -> 2.5
B8: 2 | C8: Рациональность размещения (открытость и доступность для игры детям, удобство использования материала, создания построек, поделок и т.д.) | D8: 3 | E8: 3 | F8: 3 | G8: 3 | H8: 2 | I8: 3 | J8: =AVERAGE(D8:I8) -> 2.8333333
B9: 3 | C9: Соответствие оборудования уголка программным и возрастным требованиям, требованиям безопасности и СаНПиН | D9: 3 | E9: 3 | F9: 3 | G9: 3 | H9: 3 | I9: 3 | J9: =AVERAGE(D9:I9) -> 3
B10: 4 | C10: Разнообразие материалов для организации технического конструирования | D10: 6 | E10: 6 | F10: 5 | G10: 6 | H10: 5 | I10: 6 | J10: =AVERAGE(D10:I10) -> 5.6666667
B11: 5 | C11: Разнообразие материала для художественного конструирования | D11: 5 | E11: 6 | F11: 6 | G11: 6 | H11: 6 | I11: 6 | J11: =AVERAGE(D11:I11) -> 5.8333333
B12: 5 | C12: Наличие дополнительного материала, необходимого для игр с конструктором | D12: 5 | E12: 6 | F12: 4 | G12: 6 | H12: 8 | I12: 6 | J12: =AVERAGE(D12:I12) -> 5.8333333
B13: 6 | C13: Наличие дидактических игр | D13: 3 | E13: 3 | F13: 1 | G13: 3 | H13: 3 | I13: 3 | J13: =AVERAGE(D13:I13) -> 2.6666667
B14: 7 | C14: Наличие оборудования для обыгрывания построек и поделок детей (фигурки людей, диких и домашних животных, птиц, рыб, насекомых, машинки, светофор и т.д.) | D14: 3 | E14: 3 | F14: 3 | G14: 3 | H14: 3 | I14: 3 | J14: =AVERAGE(D14:I14) -> 3
B15: 8 | C15: Наличие выставки детских работ (сюжетное оформление построек, поделок) | D15: 2 | E15: 3 | F15: 2 | G15: 3 | H15: 2 | I15: 3 | J15: =AVERAGE(D15:I15) -> 2.5
B16: 9 | C16: Дополнительные баллы за творчество и оригинальность оформления | D16: 1 | E16: 0 | F16: 0 | G16: 0 | H16: 0 | I16: 0 | J16: =AVERAGE(D16:I16) -> 0.16666667
B17: 10 | C17: ИТОГО | J17: =SUM(J7:J16) -> 34

Sheet Лучик
C2: Итоговый протокол смотра -конкурса "Лучший центр конструктивно-модельной деятельности в ДОУ"
D3: Дата: 01.12.2020
D4: Группа : | F4: Лучик
B6: № п/п | C6: показетель | D6: Соколова О.В. | E6: Юркина Е.Ю. | F6: Завражных О.Е. | G6: Выбина Е.Ю. | H6: Кириленко Е.В. | I6: Новичкова И.В. | J6: Всего
B7: 1 | C7: Оригинальность и эстетичность оформления уголка | D7: 2 | E7: 2 | F7: 2 | G7: 3 | H7: 3 | I7: 3 | J7: =AVERAGE(D7:I7) -> 2.5
B8: 2 | C8: Рациональность размещения (открытость и доступность для игры детям, удобство использования материала, создания построек, поделок и т.д.) | D8: 3 | E8: 3 | F8: 3 | G8: 3 | H8: 3 | I8: 3 | J8: =AVERAGE(D8:I8) -> 3
B9: 3 | C9: Соответствие оборудования уголка программным и возрастным требованиям, требованиям безопасности и СаНПиН | D9: 3 | E9: 3 | F9: 3 | G9: 3 | H9: 3 | I9: 3 | J9: =AVERAGE(D9:I9) -> 3
B10: 4 | C10: Разнообразие материалов для организации технического конструирования | D10: 5 | E10: 6 | F10: 5 | G10: 6 | H10: 6 | I10: 6 | J10: =AVERAGE(D10:I10) -> 5.6666667
B11: 5 | C11: Разнообразие материала для художественного конструирования | D11: 3 | E11: 3 | F11: 3 | G11: 8 | H11: 6 | I11: 6 | J11: =AVERAGE(D11:I11) -> 4.8333333
B12: 5 | C12: Наличие дополнительного материала, необходимого для игр с конструктором | D12: 6 | E12: 6 | F12: 6 | G12: 8 | H12: 9 | I12: 6 | J12: =AVERAGE(D12:I12) -> 6.8333333
B13: 6 | C13: Наличие дидактических игр | D13: 2 | E13: 2 | F13: 2 | G13: 3 | H13: 3 | I13: 3 | J13: =AVERAGE(D13:I13) -> 2.5
B14: 7 | C14: Наличие оборудования для обыгрывания построек и поделок детей (фигурки людей, диких и домашних животных, птиц, рыб, насекомых, машинки, светофор и т.д.) | D14: 3 | E14: 3 | F14: 3 | G14: 3 | H14: 3 | I14: 3 | J14: =AVERAGE(D14:I14) -> 3
B15: 8 | C15: Наличие выставки детских работ (сюжетное оформление построек, поделок) | D15: 1 | E15: 1 | F15: 1 | G15: 3 | H15: 2 | I15: 2 | J15: =AVERAGE(D15:I15) -> 1.6666667
B16: 9 | C16: Дополнительные баллы за творчество и оригинальность оформления | D16: 1 | E16: 1 | F16: 1 | G16: 0 | H16: 0 | I16: 0 | J16: =AVERAGE(D16:I16) -> 0.5
B17: 10 | C17: ИТОГО | J17: =SUM(J7:J16) -> 33.5

Sheet Итоговый
C2: Сводная таблица баллов смотра - конкурса
C4: Группа | D4: баллы | E4: место
C5: Звездочки | D5: =Звездочки!J17 -> 38.5 | E5: 3
C6: Смышленыши | D6: =Смышленыши!J17 -> 38.333333 | E6: 3
C7: Ромашки | D7: =Ромашки!J17 -> 40.666667 | E7: 2
C8: Фантазеры | D8: =Фантазеры!J17 -> 35.166667 | E8: 4
C9: Затейники | D9: =Затейники!J17 -> 46.166667 | E9: 1
C10: Ягодка | D10: =Ягодка!J17 -> 38.833333 | E10: 3
C11: Радуга | D11: =Радуга!J17 -> 41.333333 | E11: 2
C12: Кораблик | D12: =Кораблик!J17 -> 34 | E12: 1
C13: Лучик | D13: =Лучик!J17 -> 33.5 | E13: 1
B16: Член экспертной комисии | D16: ________________________/____________________
D18: _______________________/_____________________
D20: ______________________/______________________
D22: _____________________/_______________________
D24: _____________________/_______________________
D26: ____________________/________________________
B29: Заведующий | D29: ___________________/_________________________
